BEGIN:VCALENDAR
VERSION:2.0
PRODID:-//Black Swan Health - ECPv4.9.13//NONSGML v1.0//EN
CALSCALE:GREGORIAN
METHOD:PUBLISH
X-WR-CALNAME:Black Swan Health
X-ORIGINAL-URL:https://www.blackswanhealth.com.au
X-WR-CALDESC:Events for Black Swan Health
BEGIN:VTIMEZONE
TZID:Asia/Shanghai
BEGIN:STANDARD
TZOFFSETFROM:+0800
TZOFFSETTO:+0800
TZNAME:CST
DTSTART:20170101T000000
END:STANDARD
END:VTIMEZONE
BEGIN:VEVENT
DTSTART;TZID=Asia/Shanghai:20170511T120000
DTEND;TZID=Asia/Shanghai:20170511T130000
DTSTAMP:20200302T031143
CREATED:20170410T015239Z
LAST-MODIFIED:20170410T020155Z
UID:3106-1494504000-1494507600@www.blackswanhealth.com.au
SUMMARY:Practice Nurse Meeting - COPD
DESCRIPTION:Black Swan Health Joondalup is holding a practice nurse meeting for those interested in the management of Chronic Obstructive Pulmonary Disease (COPD). \nRespiratory Nurse Louise Papps will give a presentation on the latest research and management aspects of COPD. \nLearning objectives:\n\nHave a clear understanding of COPD and COPD management\nReview medications used in COPD\nReview available inhaler devices and inhaler techniques\nReferral pathways for clients with COPD\n\nEvent Details:\nDate:\nThursday 11th May 2017 \nVenue:\nBlack Swan Health\nLevel 1\, Suite 3\nSanori House\n126 Grand Boulevard\nJOONDALUP WA 6027 \nTime:\n12.00-1.00 PM. \nPlease arrive 10-15 minutes early for registration\nA light lunch\, tea and coffee will be provided. \nTo RSVP\, or for more information please email info@blackswanhealth.com.au or call 9201 0044. \nThis events is supported by:\n \n
URL:https://www.blackswanhealth.com.au/event/practice-nurse-meeting-2/
LOCATION:Black Swan Health Joondalup\, Sanori House\, G8\, 126 Grand Boulevard \, Joondalup\, WA\, 6027\, Australia
CATEGORIES:Health and Wellness
END:VEVENT
END:VCALENDAR