BEGIN:VCALENDAR
VERSION:2.0
PRODID:-//Black Swan Health - ECPv4.9.13//NONSGML v1.0//EN
CALSCALE:GREGORIAN
METHOD:PUBLISH
X-WR-CALNAME:Black Swan Health
X-ORIGINAL-URL:https://www.blackswanhealth.com.au
X-WR-CALDESC:Events for Black Swan Health
BEGIN:VTIMEZONE
TZID:Asia/Shanghai
BEGIN:STANDARD
TZOFFSETFROM:+0800
TZOFFSETTO:+0800
TZNAME:CST
DTSTART:20170101T000000
END:STANDARD
END:VTIMEZONE
BEGIN:VEVENT
DTSTART;TZID=Asia/Shanghai:20170519T090000
DTEND;TZID=Asia/Shanghai:20170519T120000
DTSTAMP:20200302T030100
CREATED:20170515T070717Z
LAST-MODIFIED:20170515T070834Z
UID:3214-1495184400-1495195200@www.blackswanhealth.com.au
SUMMARY:Nutrition Education Session
DESCRIPTION:Black Swan Health are running a nutrition education session at the Aboriginal Carers Groups at Sudbury House in Mirrabooka on Friday 19th May. \nPlease contact the Chronic Conditions team on 9201 0044 for more information. \n
URL:https://www.blackswanhealth.com.au/event/nutrition-education-session/
CATEGORIES:Health and Wellness
END:VEVENT
END:VCALENDAR