BEGIN:VCALENDAR
VERSION:2.0
PRODID:-//Black Swan Health - ECPv4.9.13//NONSGML v1.0//EN
CALSCALE:GREGORIAN
METHOD:PUBLISH
X-WR-CALNAME:Black Swan Health
X-ORIGINAL-URL:https://www.blackswanhealth.com.au
X-WR-CALDESC:Events for Black Swan Health
BEGIN:VTIMEZONE
TZID:Asia/Shanghai
BEGIN:STANDARD
TZOFFSETFROM:+0800
TZOFFSETTO:+0800
TZNAME:CST
DTSTART:20170101T000000
END:STANDARD
END:VTIMEZONE
BEGIN:VEVENT
DTSTART;TZID=Asia/Shanghai:20170523T090000
DTEND;TZID=Asia/Shanghai:20170523T120000
DTSTAMP:20200302T030127
CREATED:20170515T065919Z
LAST-MODIFIED:20170515T070353Z
UID:3210-1495530000-1495540800@www.blackswanhealth.com.au
SUMMARY:Better Living With Your Lung Disease - Patient Seminar
DESCRIPTION:The Lung Foundation Australia presents Better Living With Your Lung Disease – Patient Seminar Perth 2017. \nBlack Swan Health’s Respiratory Nurse Specialist\, Louise Papps\, will be on site ready to answer any questions as well as promoting our respiratory services. \nTo secure your place\, please call the Lung Foundation on 1800 654 301\nRSVP: Tuesday 23 May \n\n\nDate: Tuesday 30 May 2017\nTime: 9:00am – 12:00 noon\nVenue: Boulevard Hall The Boulevard Centre 99 The Boulevard Floreat 6014\nCost: $10 payable on the day\nParking: Please display enclosed voucher on your car dashboard \n\n
URL:https://www.blackswanhealth.com.au/event/better-living-lung-disease/
CATEGORIES:Health and Wellness
END:VEVENT
END:VCALENDAR